BEGIN:VCALENDAR
VERSION:2.0
PRODID:-//Speedway Moose 500 - ECPv6.3.4//NONSGML v1.0//EN
CALSCALE:GREGORIAN
METHOD:PUBLISH
X-ORIGINAL-URL:https://speedwaymoose500.org
X-WR-CALDESC:Events for Speedway Moose 500
REFRESH-INTERVAL;VALUE=DURATION:PT1H
X-Robots-Tag:noindex
X-PUBLISHED-TTL:PT1H
BEGIN:VTIMEZONE
TZID:UTC
BEGIN:STANDARD
TZOFFSETFROM:+0000
TZOFFSETTO:+0000
TZNAME:UTC
DTSTART:20230101T000000
END:STANDARD
END:VTIMEZONE
BEGIN:VEVENT
DTSTART;VALUE=DATE:20230610
DTEND;VALUE=DATE:20230611
DTSTAMP:20260424T133514
CREATED:20230429T220914Z
LAST-MODIFIED:20230429T220914Z
UID:5797-1686355200-1686441599@speedwaymoose500.org
SUMMARY:Dinner Special Chicken Fried Chicken
DESCRIPTION:
URL:https://speedwaymoose500.org/event/dinner-special-chicken-fried-chicken/
END:VEVENT
BEGIN:VEVENT
DTSTART;TZID=UTC:20230610T200000
DTEND;TZID=UTC:20230610T235900
DTSTAMP:20260424T133514
CREATED:20230429T194743Z
LAST-MODIFIED:20230429T194743Z
UID:5769-1686427200-1686441540@speedwaymoose500.org
SUMMARY:Band - Terry Lee Ridley
DESCRIPTION:
URL:https://speedwaymoose500.org/event/band-terry-lee-ridley-4/
END:VEVENT
END:VCALENDAR