BEGIN:VCALENDAR
VERSION:2.0
PRODID:-//Speedway Moose 500 - ECPv6.3.4//NONSGML v1.0//EN
CALSCALE:GREGORIAN
METHOD:PUBLISH
X-WR-CALNAME:Speedway Moose 500
X-ORIGINAL-URL:https://speedwaymoose500.org
X-WR-CALDESC:Events for Speedway Moose 500
REFRESH-INTERVAL;VALUE=DURATION:PT1H
X-Robots-Tag:noindex
X-PUBLISHED-TTL:PT1H
BEGIN:VTIMEZONE
TZID:UTC
BEGIN:STANDARD
TZOFFSETFROM:+0000
TZOFFSETTO:+0000
TZNAME:UTC
DTSTART:20230101T000000
END:STANDARD
END:VTIMEZONE
BEGIN:VEVENT
DTSTART;TZID=UTC:20230722T110000
DTEND;TZID=UTC:20230722T150000
DTSTAMP:20260424T114127
CREATED:20230611T182733Z
LAST-MODIFIED:20230611T182733Z
UID:5822-1690023600-1690038000@speedwaymoose500.org
SUMMARY:Community Day
DESCRIPTION:
URL:https://speedwaymoose500.org/event/community-day/
END:VEVENT
BEGIN:VEVENT
DTSTART;TZID=UTC:20230722T160000
DTEND;TZID=UTC:20230722T210000
DTSTAMP:20260424T114127
CREATED:20230611T181144Z
LAST-MODIFIED:20230611T181144Z
UID:5816-1690041600-1690059600@speedwaymoose500.org
SUMMARY:Special - BBQ Ribs
DESCRIPTION:
URL:https://speedwaymoose500.org/event/special-bbq-ribs-2/
END:VEVENT
BEGIN:VEVENT
DTSTART;TZID=UTC:20230722T200000
DTEND;TZID=UTC:20230722T235900
DTSTAMP:20260424T114127
CREATED:20230611T181007Z
LAST-MODIFIED:20230611T181007Z
UID:5814-1690056000-1690070340@speedwaymoose500.org
SUMMARY:Band - Bigger is Better
DESCRIPTION:
URL:https://speedwaymoose500.org/event/band-bigger-is-better-20/
END:VEVENT
END:VCALENDAR