BEGIN:VCALENDAR
VERSION:2.0
PRODID:-//Speedway Moose 500 - ECPv6.3.4//NONSGML v1.0//EN
CALSCALE:GREGORIAN
METHOD:PUBLISH
X-WR-CALNAME:Speedway Moose 500
X-ORIGINAL-URL:https://speedwaymoose500.org
X-WR-CALDESC:Events for Speedway Moose 500
REFRESH-INTERVAL;VALUE=DURATION:PT1H
X-Robots-Tag:noindex
X-PUBLISHED-TTL:PT1H
BEGIN:VTIMEZONE
TZID:UTC
BEGIN:STANDARD
TZOFFSETFROM:+0000
TZOFFSETTO:+0000
TZNAME:UTC
DTSTART:20230101T000000
END:STANDARD
END:VTIMEZONE
BEGIN:VEVENT
DTSTART;TZID=UTC:20230819T160000
DTEND;TZID=UTC:20230819T210000
DTSTAMP:20260424T095415
CREATED:20230611T184423Z
LAST-MODIFIED:20230611T184423Z
UID:5830-1692460800-1692478800@speedwaymoose500.org
SUMMARY:Moose Legion Dinner
DESCRIPTION:
URL:https://speedwaymoose500.org/event/moose-legion-dinner/
END:VEVENT
BEGIN:VEVENT
DTSTART;TZID=UTC:20230819T200000
DTEND;TZID=UTC:20230819T235900
DTSTAMP:20260424T095415
CREATED:20230611T184305Z
LAST-MODIFIED:20230611T184305Z
UID:5828-1692475200-1692489540@speedwaymoose500.org
SUMMARY:Band - Bigger is Better
DESCRIPTION:
URL:https://speedwaymoose500.org/event/band-bigger-is-better-21/
END:VEVENT
END:VCALENDAR