BEGIN:VCALENDAR
VERSION:2.0
PRODID:-//Speedway Moose 500 - ECPv6.3.4//NONSGML v1.0//EN
CALSCALE:GREGORIAN
METHOD:PUBLISH
X-ORIGINAL-URL:https://speedwaymoose500.org
X-WR-CALDESC:Events for Speedway Moose 500
REFRESH-INTERVAL;VALUE=DURATION:PT1H
X-Robots-Tag:noindex
X-PUBLISHED-TTL:PT1H
BEGIN:VTIMEZONE
TZID:UTC
BEGIN:STANDARD
TZOFFSETFROM:+0000
TZOFFSETTO:+0000
TZNAME:UTC
DTSTART:20230101T000000
END:STANDARD
END:VTIMEZONE
BEGIN:VEVENT
DTSTART;TZID=UTC:20230826T080000
DTEND;TZID=UTC:20230826T160000
DTSTAMP:20260424T095444
CREATED:20230611T184633Z
LAST-MODIFIED:20230611T184633Z
UID:5832-1693036800-1693065600@speedwaymoose500.org
SUMMARY:Brandon Charity Ride
DESCRIPTION:
URL:https://speedwaymoose500.org/event/brandon-charity-ride-2/
END:VEVENT
BEGIN:VEVENT
DTSTART;TZID=UTC:20230826T160000
DTEND;TZID=UTC:20230826T210000
DTSTAMP:20260424T095444
CREATED:20230611T184832Z
LAST-MODIFIED:20230611T184832Z
UID:5834-1693065600-1693083600@speedwaymoose500.org
SUMMARY:Special - Blackened Shrimp
DESCRIPTION:
URL:https://speedwaymoose500.org/event/special-blackened-shrimp/
END:VEVENT
BEGIN:VEVENT
DTSTART;TZID=UTC:20230826T200000
DTEND;TZID=UTC:20230826T235900
DTSTAMP:20260424T095444
CREATED:20230611T224700Z
LAST-MODIFIED:20230611T224700Z
UID:5847-1693080000-1693094340@speedwaymoose500.org
SUMMARY:Band - Southern Bridges
DESCRIPTION:
URL:https://speedwaymoose500.org/event/band-southern-bridges-12/
END:VEVENT
END:VCALENDAR