BEGIN:VCALENDAR
VERSION:2.0
PRODID:-//Speedway Moose 500 - ECPv6.3.4//NONSGML v1.0//EN
CALSCALE:GREGORIAN
METHOD:PUBLISH
X-WR-CALNAME:Speedway Moose 500
X-ORIGINAL-URL:https://speedwaymoose500.org
X-WR-CALDESC:Events for Speedway Moose 500
REFRESH-INTERVAL;VALUE=DURATION:PT1H
X-Robots-Tag:noindex
X-PUBLISHED-TTL:PT1H
BEGIN:VTIMEZONE
TZID:UTC
BEGIN:STANDARD
TZOFFSETFROM:+0000
TZOFFSETTO:+0000
TZNAME:UTC
DTSTART:20230101T000000
END:STANDARD
END:VTIMEZONE
BEGIN:VEVENT
DTSTART;TZID=UTC:20230909T160000
DTEND;TZID=UTC:20230909T210000
DTSTAMP:20260424T082007
CREATED:20230827T171022Z
LAST-MODIFIED:20230827T171022Z
UID:5882-1694275200-1694293200@speedwaymoose500.org
SUMMARY:Special - Country Fried Pork
DESCRIPTION:
URL:https://speedwaymoose500.org/event/special-country-fried-pork/
END:VEVENT
BEGIN:VEVENT
DTSTART;TZID=UTC:20230909T190000
DTEND;TZID=UTC:20230909T230000
DTSTAMP:20260424T082007
CREATED:20230611T224831Z
LAST-MODIFIED:20230827T170846Z
UID:5849-1694286000-1694300400@speedwaymoose500.org
SUMMARY:Band - Tune-o-matics
DESCRIPTION:
URL:https://speedwaymoose500.org/event/band-tune-o-matics-3/
END:VEVENT
END:VCALENDAR