BEGIN:VCALENDAR
VERSION:2.0
PRODID:-//Speedway Moose 500 - ECPv6.3.4//NONSGML v1.0//EN
CALSCALE:GREGORIAN
METHOD:PUBLISH
X-WR-CALNAME:Speedway Moose 500
X-ORIGINAL-URL:https://speedwaymoose500.org
X-WR-CALDESC:Events for Speedway Moose 500
REFRESH-INTERVAL;VALUE=DURATION:PT1H
X-Robots-Tag:noindex
X-PUBLISHED-TTL:PT1H
BEGIN:VTIMEZONE
TZID:UTC
BEGIN:STANDARD
TZOFFSETFROM:+0000
TZOFFSETTO:+0000
TZNAME:UTC
DTSTART:20230101T000000
END:STANDARD
END:VTIMEZONE
BEGIN:VEVENT
DTSTART;VALUE=DATE:20230916
DTEND;VALUE=DATE:20230918
DTSTAMP:20260424T081759
CREATED:20230611T225308Z
LAST-MODIFIED:20230829T152537Z
UID:5857-1694822400-1694995199@speedwaymoose500.org
SUMMARY:Mooseheart Trip
DESCRIPTION:
URL:https://speedwaymoose500.org/event/indiana-day-mooseheart-trip/
END:VEVENT
BEGIN:VEVENT
DTSTART;VALUE=DATE:20230916
DTEND;VALUE=DATE:20230918
DTSTAMP:20260424T081759
CREATED:20230829T152423Z
LAST-MODIFIED:20230829T152423Z
UID:5914-1694822400-1694995199@speedwaymoose500.org
SUMMARY:Lodge Closed
DESCRIPTION:
URL:https://speedwaymoose500.org/event/lodge-closed-6/
END:VEVENT
END:VCALENDAR