BEGIN:VCALENDAR
VERSION:2.0
PRODID:-//Speedway Moose 500 - ECPv6.3.4//NONSGML v1.0//EN
CALSCALE:GREGORIAN
METHOD:PUBLISH
X-ORIGINAL-URL:https://speedwaymoose500.org
X-WR-CALDESC:Events for Speedway Moose 500
REFRESH-INTERVAL;VALUE=DURATION:PT1H
X-Robots-Tag:noindex
X-PUBLISHED-TTL:PT1H
BEGIN:VTIMEZONE
TZID:UTC
BEGIN:STANDARD
TZOFFSETFROM:+0000
TZOFFSETTO:+0000
TZNAME:UTC
DTSTART:20240101T000000
END:STANDARD
END:VTIMEZONE
BEGIN:VEVENT
DTSTART;TZID=UTC:20240210T160000
DTEND;TZID=UTC:20240210T210000
DTSTAMP:20260425T142320
CREATED:20231222T014405Z
LAST-MODIFIED:20231226T040047Z
UID:6452-1707580800-1707598800@speedwaymoose500.org
SUMMARY:Valentine's Dinner Special
DESCRIPTION:
URL:https://speedwaymoose500.org/event/valintines-dinner-special/
END:VEVENT
BEGIN:VEVENT
DTSTART;TZID=UTC:20240210T190000
DTEND;TZID=UTC:20240210T230000
DTSTAMP:20260425T142320
CREATED:20231222T014128Z
LAST-MODIFIED:20231222T014128Z
UID:6448-1707591600-1707606000@speedwaymoose500.org
SUMMARY:Band - Hot Rod Lincoln
DESCRIPTION:
URL:https://speedwaymoose500.org/event/band-hot-rod-lincoln-5/
END:VEVENT
END:VCALENDAR