BEGIN:VCALENDAR
VERSION:2.0
PRODID:-//Speedway Moose 500 - ECPv6.3.4//NONSGML v1.0//EN
CALSCALE:GREGORIAN
METHOD:PUBLISH
X-ORIGINAL-URL:https://speedwaymoose500.org
X-WR-CALDESC:Events for Speedway Moose 500
REFRESH-INTERVAL;VALUE=DURATION:PT1H
X-Robots-Tag:noindex
X-PUBLISHED-TTL:PT1H
BEGIN:VTIMEZONE
TZID:UTC
BEGIN:STANDARD
TZOFFSETFROM:+0000
TZOFFSETTO:+0000
TZNAME:UTC
DTSTART:20240101T000000
END:STANDARD
END:VTIMEZONE
BEGIN:VEVENT
DTSTART;TZID=UTC:20240316T160000
DTEND;TZID=UTC:20240316T210000
DTSTAMP:20260423T153018
CREATED:20240224T204344Z
LAST-MODIFIED:20240224T204344Z
UID:7488-1710604800-1710622800@speedwaymoose500.org
SUMMARY:Moose Legion Dinner Night
DESCRIPTION:
URL:https://speedwaymoose500.org/event/moose-legion-dinner-night-5/
END:VEVENT
BEGIN:VEVENT
DTSTART;TZID=UTC:20240316T190000
DTEND;TZID=UTC:20240316T230000
DTSTAMP:20260423T153018
CREATED:20240219T200030Z
LAST-MODIFIED:20240224T204144Z
UID:7428-1710615600-1710630000@speedwaymoose500.org
SUMMARY:Band:  Jason Salyers & Whiskey Road
DESCRIPTION:
URL:https://speedwaymoose500.org/event/band-tbd-10/
END:VEVENT
END:VCALENDAR