BEGIN:VCALENDAR
VERSION:2.0
PRODID:-//Speedway Moose 500 - ECPv6.3.4//NONSGML v1.0//EN
CALSCALE:GREGORIAN
METHOD:PUBLISH
X-ORIGINAL-URL:https://speedwaymoose500.org
X-WR-CALDESC:Events for Speedway Moose 500
REFRESH-INTERVAL;VALUE=DURATION:PT1H
X-Robots-Tag:noindex
X-PUBLISHED-TTL:PT1H
BEGIN:VTIMEZONE
TZID:UTC
BEGIN:STANDARD
TZOFFSETFROM:+0000
TZOFFSETTO:+0000
TZNAME:UTC
DTSTART:20240101T000000
END:STANDARD
END:VTIMEZONE
BEGIN:VEVENT
DTSTART;TZID=UTC:20240318T183000
DTEND;TZID=UTC:20240318T183000
DTSTAMP:20260423T153018
CREATED:20240224T205508Z
LAST-MODIFIED:20240224T205508Z
UID:7503-1710786600-1710786600@speedwaymoose500.org
SUMMARY:WOTM Elections
DESCRIPTION:
URL:https://speedwaymoose500.org/event/wotm-elections/
END:VEVENT
END:VCALENDAR