BEGIN:VCALENDAR
VERSION:2.0
PRODID:-//Speedway Moose 500 - ECPv6.3.4//NONSGML v1.0//EN
CALSCALE:GREGORIAN
METHOD:PUBLISH
X-ORIGINAL-URL:https://speedwaymoose500.org
X-WR-CALDESC:Events for Speedway Moose 500
REFRESH-INTERVAL;VALUE=DURATION:PT1H
X-Robots-Tag:noindex
X-PUBLISHED-TTL:PT1H
BEGIN:VTIMEZONE
TZID:UTC
BEGIN:STANDARD
TZOFFSETFROM:+0000
TZOFFSETTO:+0000
TZNAME:UTC
DTSTART:20240101T000000
END:STANDARD
END:VTIMEZONE
BEGIN:VEVENT
DTSTART;TZID=UTC:20240330T120000
DTEND;TZID=UTC:20240330T140000
DTSTAMP:20260423T153018
CREATED:20240224T205428Z
LAST-MODIFIED:20240224T205428Z
UID:7501-1711800000-1711807200@speedwaymoose500.org
SUMMARY:Kids Easter Party
DESCRIPTION:
URL:https://speedwaymoose500.org/event/kids-easter-party-3/
END:VEVENT
BEGIN:VEVENT
DTSTART;TZID=UTC:20240330T190000
DTEND;TZID=UTC:20240330T230000
DTSTAMP:20260423T153018
CREATED:20231222T015215Z
LAST-MODIFIED:20240224T204713Z
UID:6464-1711825200-1711839600@speedwaymoose500.org
SUMMARY:Band - The Party
DESCRIPTION:
URL:https://speedwaymoose500.org/event/band-party/
END:VEVENT
END:VCALENDAR