BEGIN:VCALENDAR
VERSION:2.0
PRODID:-//Speedway Moose 500 - ECPv6.3.4//NONSGML v1.0//EN
CALSCALE:GREGORIAN
METHOD:PUBLISH
X-WR-CALNAME:Speedway Moose 500
X-ORIGINAL-URL:https://speedwaymoose500.org
X-WR-CALDESC:Events for Speedway Moose 500
REFRESH-INTERVAL;VALUE=DURATION:PT1H
X-Robots-Tag:noindex
X-PUBLISHED-TTL:PT1H
BEGIN:VTIMEZONE
TZID:UTC
BEGIN:STANDARD
TZOFFSETFROM:+0000
TZOFFSETTO:+0000
TZNAME:UTC
DTSTART:20240101T000000
END:STANDARD
END:VTIMEZONE
BEGIN:VEVENT
DTSTART;TZID=UTC:20240407T133000
DTEND;TZID=UTC:20240407T183000
DTSTAMP:20260423T120404
CREATED:20240325T171959Z
LAST-MODIFIED:20240325T171959Z
UID:7635-1712496600-1712514600@speedwaymoose500.org
SUMMARY:10K Bingo Day
DESCRIPTION:
URL:https://speedwaymoose500.org/event/10k-bingo-day-2/
END:VEVENT
END:VCALENDAR