BEGIN:VCALENDAR
VERSION:2.0
PRODID:-//Speedway Moose 500 - ECPv6.3.4//NONSGML v1.0//EN
CALSCALE:GREGORIAN
METHOD:PUBLISH
X-ORIGINAL-URL:https://speedwaymoose500.org
X-WR-CALDESC:Events for Speedway Moose 500
REFRESH-INTERVAL;VALUE=DURATION:PT1H
X-Robots-Tag:noindex
X-PUBLISHED-TTL:PT1H
BEGIN:VTIMEZONE
TZID:UTC
BEGIN:STANDARD
TZOFFSETFROM:+0000
TZOFFSETTO:+0000
TZNAME:UTC
DTSTART:20240101T000000
END:STANDARD
END:VTIMEZONE
BEGIN:VEVENT
DTSTART;TZID=UTC:20240420T160000
DTEND;TZID=UTC:20240420T210000
DTSTAMP:20260423T120915
CREATED:20240224T204459Z
LAST-MODIFIED:20240224T204459Z
UID:7490-1713628800-1713646800@speedwaymoose500.org
SUMMARY:Moose Legion Dinner Night
DESCRIPTION:
URL:https://speedwaymoose500.org/event/moose-legion-dinner-night-6/
END:VEVENT
BEGIN:VEVENT
DTSTART;TZID=UTC:20240420T190000
DTEND;TZID=UTC:20240420T230000
DTSTAMP:20260423T120915
CREATED:20240224T205120Z
LAST-MODIFIED:20240224T205120Z
UID:7497-1713639600-1713654000@speedwaymoose500.org
SUMMARY:Band: Eastern Wing Band
DESCRIPTION:
URL:https://speedwaymoose500.org/event/band-eastern-wing-band/
END:VEVENT
END:VCALENDAR