BEGIN:VCALENDAR
VERSION:2.0
PRODID:-//Speedway Moose 500 - ECPv6.3.4//NONSGML v1.0//EN
CALSCALE:GREGORIAN
METHOD:PUBLISH
X-ORIGINAL-URL:https://speedwaymoose500.org
X-WR-CALDESC:Events for Speedway Moose 500
REFRESH-INTERVAL;VALUE=DURATION:PT1H
X-Robots-Tag:noindex
X-PUBLISHED-TTL:PT1H
BEGIN:VTIMEZONE
TZID:UTC
BEGIN:STANDARD
TZOFFSETFROM:+0000
TZOFFSETTO:+0000
TZNAME:UTC
DTSTART:20240101T000000
END:STANDARD
END:VTIMEZONE
BEGIN:VEVENT
DTSTART;TZID=UTC:20240506T160000
DTEND;TZID=UTC:20240506T230000
DTSTAMP:20260423T152941
CREATED:20231226T014601Z
LAST-MODIFIED:20231226T014601Z
UID:6935-1715011200-1715036400@speedwaymoose500.org
SUMMARY:Social Quarters Open
DESCRIPTION:
URL:https://speedwaymoose500.org/event/social-quarters-open-3/2024-05-06/
END:VEVENT
BEGIN:VEVENT
DTSTART;TZID=UTC:20240506T180000
DTEND;TZID=UTC:20240506T180000
DTSTAMP:20260423T152941
CREATED:20210503T185832Z
LAST-MODIFIED:20210503T185832Z
UID:4044-1715018400-1715018400@speedwaymoose500.org
SUMMARY:Lodge Moose Legion Meeting
DESCRIPTION:
URL:https://speedwaymoose500.org/event/lodge-moose-legion-meeting/2024-05-06/
END:VEVENT
BEGIN:VEVENT
DTSTART;TZID=UTC:20240506T183000
DTEND;TZID=UTC:20240506T220000
DTSTAMP:20260423T152941
CREATED:20240401T132005Z
LAST-MODIFIED:20240401T132005Z
UID:7655-1715020200-1715032800@speedwaymoose500.org
SUMMARY:Karaoke
DESCRIPTION:
URL:https://speedwaymoose500.org/event/karaoke-2/2024-05-06/
END:VEVENT
END:VCALENDAR