BEGIN:VCALENDAR
VERSION:2.0
PRODID:-//Speedway Moose 500 - ECPv6.3.4//NONSGML v1.0//EN
CALSCALE:GREGORIAN
METHOD:PUBLISH
X-WR-CALNAME:Speedway Moose 500
X-ORIGINAL-URL:https://speedwaymoose500.org
X-WR-CALDESC:Events for Speedway Moose 500
REFRESH-INTERVAL;VALUE=DURATION:PT1H
X-Robots-Tag:noindex
X-PUBLISHED-TTL:PT1H
BEGIN:VTIMEZONE
TZID:UTC
BEGIN:STANDARD
TZOFFSETFROM:+0000
TZOFFSETTO:+0000
TZNAME:UTC
DTSTART:20240101T000000
END:STANDARD
END:VTIMEZONE
BEGIN:VEVENT
DTSTART;TZID=UTC:20240512T120000
DTEND;TZID=UTC:20240512T180000
DTSTAMP:20260423T152620
CREATED:20231226T013945Z
LAST-MODIFIED:20231226T013945Z
UID:6727-1715515200-1715536800@speedwaymoose500.org
SUMMARY:Social Quarters Open
DESCRIPTION:
URL:https://speedwaymoose500.org/event/social-quarters-open/2024-05-12/
END:VEVENT
BEGIN:VEVENT
DTSTART;TZID=UTC:20240512T133000
DTEND;TZID=UTC:20240512T143000
DTSTAMP:20260423T152620
CREATED:20220222T202200Z
LAST-MODIFIED:20220625T123454Z
UID:4051-1715520600-1715524200@speedwaymoose500.org
SUMMARY:Bingo - Warm-ups *
DESCRIPTION:
URL:https://speedwaymoose500.org/event/bingo-warm-ups/2024-05-12/
END:VEVENT
BEGIN:VEVENT
DTSTART;TZID=UTC:20240512T143000
DTEND;TZID=UTC:20240512T180000
DTSTAMP:20260423T152620
CREATED:20220222T202330Z
LAST-MODIFIED:20250226T134316Z
UID:4052-1715524200-1715536800@speedwaymoose500.org
SUMMARY:Bingo - Regular Games
DESCRIPTION:
URL:https://speedwaymoose500.org/event/bingo-regular-games-2023-02-26/2024-05-12/
END:VEVENT
END:VCALENDAR