BEGIN:VCALENDAR
VERSION:2.0
PRODID:-//Speedway Moose 500 - ECPv6.3.4//NONSGML v1.0//EN
CALSCALE:GREGORIAN
METHOD:PUBLISH
X-WR-CALNAME:Speedway Moose 500
X-ORIGINAL-URL:https://speedwaymoose500.org
X-WR-CALDESC:Events for Speedway Moose 500
REFRESH-INTERVAL;VALUE=DURATION:PT1H
X-Robots-Tag:noindex
X-PUBLISHED-TTL:PT1H
BEGIN:VTIMEZONE
TZID:UTC
BEGIN:STANDARD
TZOFFSETFROM:+0000
TZOFFSETTO:+0000
TZNAME:UTC
DTSTART:20240101T000000
END:STANDARD
END:VTIMEZONE
BEGIN:VEVENT
DTSTART;TZID=UTC:20240513T160000
DTEND;TZID=UTC:20240513T230000
DTSTAMP:20260423T133844
CREATED:20231226T014601Z
LAST-MODIFIED:20231226T014601Z
UID:6936-1715616000-1715641200@speedwaymoose500.org
SUMMARY:Social Quarters Open
DESCRIPTION:
URL:https://speedwaymoose500.org/event/social-quarters-open-3/2024-05-13/
END:VEVENT
BEGIN:VEVENT
DTSTART;TZID=UTC:20240513T173000
DTEND;TZID=UTC:20240513T183000
DTSTAMP:20260423T133844
CREATED:20210503T190054Z
LAST-MODIFIED:20210503T190054Z
UID:9114-1715621400-1715625000@speedwaymoose500.org
SUMMARY:Lodge Officers Meeting
DESCRIPTION:
URL:https://speedwaymoose500.org/event/lodge-officers-meeting/2024-05-13/
END:VEVENT
BEGIN:VEVENT
DTSTART;TZID=UTC:20240513T183000
DTEND;TZID=UTC:20240513T183000
DTSTAMP:20260423T133844
CREATED:20210503T190209Z
LAST-MODIFIED:20221230T025818Z
UID:4054-1715625000-1715625000@speedwaymoose500.org
SUMMARY:Lodge Business Meeting
DESCRIPTION:
URL:https://speedwaymoose500.org/event/lodge-business-meeting/2024-05-13/
END:VEVENT
BEGIN:VEVENT
DTSTART;TZID=UTC:20240513T183000
DTEND;TZID=UTC:20240513T220000
DTSTAMP:20260423T133844
CREATED:20240401T132005Z
LAST-MODIFIED:20240401T132005Z
UID:7656-1715625000-1715637600@speedwaymoose500.org
SUMMARY:Karaoke
DESCRIPTION:
URL:https://speedwaymoose500.org/event/karaoke-2/2024-05-13/
END:VEVENT
END:VCALENDAR