BEGIN:VCALENDAR
VERSION:2.0
PRODID:-//Speedway Moose 500 - ECPv6.3.4//NONSGML v1.0//EN
CALSCALE:GREGORIAN
METHOD:PUBLISH
X-WR-CALNAME:Speedway Moose 500
X-ORIGINAL-URL:https://speedwaymoose500.org
X-WR-CALDESC:Events for Speedway Moose 500
REFRESH-INTERVAL;VALUE=DURATION:PT1H
X-Robots-Tag:noindex
X-PUBLISHED-TTL:PT1H
BEGIN:VTIMEZONE
TZID:UTC
BEGIN:STANDARD
TZOFFSETFROM:+0000
TZOFFSETTO:+0000
TZNAME:UTC
DTSTART:20240101T000000
END:STANDARD
END:VTIMEZONE
BEGIN:VEVENT
DTSTART;TZID=UTC:20240525T190000
DTEND;TZID=UTC:20240525T230000
DTSTAMP:20260423T152704
CREATED:20240419T141520Z
LAST-MODIFIED:20240419T141520Z
UID:7715-1716663600-1716678000@speedwaymoose500.org
SUMMARY:Band: Terry Lee Ridley
DESCRIPTION:
URL:https://speedwaymoose500.org/event/band-terry-lee-ridley-8/
END:VEVENT
END:VCALENDAR