BEGIN:VCALENDAR
VERSION:2.0
PRODID:-//Speedway Moose 500 - ECPv6.3.4//NONSGML v1.0//EN
CALSCALE:GREGORIAN
METHOD:PUBLISH
X-ORIGINAL-URL:https://speedwaymoose500.org
X-WR-CALDESC:Events for Speedway Moose 500
REFRESH-INTERVAL;VALUE=DURATION:PT1H
X-Robots-Tag:noindex
X-PUBLISHED-TTL:PT1H
BEGIN:VTIMEZONE
TZID:UTC
BEGIN:STANDARD
TZOFFSETFROM:+0000
TZOFFSETTO:+0000
TZNAME:UTC
DTSTART:20240101T000000
END:STANDARD
END:VTIMEZONE
BEGIN:VEVENT
DTSTART;TZID=UTC:20240615T160000
DTEND;TZID=UTC:20240615T210000
DTSTAMP:20260425T142608
CREATED:20240419T145739Z
LAST-MODIFIED:20240419T145739Z
UID:7748-1718467200-1718485200@speedwaymoose500.org
SUMMARY:Legion Night
DESCRIPTION:
URL:https://speedwaymoose500.org/event/legion-night-2/
END:VEVENT
BEGIN:VEVENT
DTSTART;TZID=UTC:20240615T190000
DTEND;TZID=UTC:20240615T230000
DTSTAMP:20260425T142608
CREATED:20240419T141711Z
LAST-MODIFIED:20240419T141711Z
UID:7721-1718478000-1718492400@speedwaymoose500.org
SUMMARY:Band: Bigger is Better
DESCRIPTION:
URL:https://speedwaymoose500.org/event/band-bigger-is-better-27/
END:VEVENT
END:VCALENDAR