BEGIN:VCALENDAR
VERSION:2.0
PRODID:-//Speedway Moose 500 - ECPv6.3.4//NONSGML v1.0//EN
CALSCALE:GREGORIAN
METHOD:PUBLISH
X-ORIGINAL-URL:https://speedwaymoose500.org
X-WR-CALDESC:Events for Speedway Moose 500
REFRESH-INTERVAL;VALUE=DURATION:PT1H
X-Robots-Tag:noindex
X-PUBLISHED-TTL:PT1H
BEGIN:VTIMEZONE
TZID:UTC
BEGIN:STANDARD
TZOFFSETFROM:+0000
TZOFFSETTO:+0000
TZNAME:UTC
DTSTART:20240101T000000
END:STANDARD
END:VTIMEZONE
BEGIN:VEVENT
DTSTART;TZID=UTC:20240701T160000
DTEND;TZID=UTC:20240701T230000
DTSTAMP:20260423T152812
CREATED:20231226T014601Z
LAST-MODIFIED:20231226T014601Z
UID:6943-1719849600-1719874800@speedwaymoose500.org
SUMMARY:Social Quarters Open
DESCRIPTION:
URL:https://speedwaymoose500.org/event/social-quarters-open-3/2024-07-01/
END:VEVENT
BEGIN:VEVENT
DTSTART;TZID=UTC:20240701T180000
DTEND;TZID=UTC:20240701T180000
DTSTAMP:20260423T152812
CREATED:20210503T185832Z
LAST-MODIFIED:20210503T185832Z
UID:4460-1719856800-1719856800@speedwaymoose500.org
SUMMARY:Lodge Moose Legion Meeting
DESCRIPTION:
URL:https://speedwaymoose500.org/event/lodge-moose-legion-meeting/2024-07-01/
END:VEVENT
BEGIN:VEVENT
DTSTART;TZID=UTC:20240701T180000
DTEND;TZID=UTC:20240701T180000
DTSTAMP:20260423T152812
CREATED:20240622T181230Z
LAST-MODIFIED:20240622T181230Z
UID:7966-1719856800-1719856800@speedwaymoose500.org
SUMMARY:Texas Holdem' Tournament
DESCRIPTION:
URL:https://speedwaymoose500.org/event/texas-holdem-tournament-2/
END:VEVENT
END:VCALENDAR