BEGIN:VCALENDAR
VERSION:2.0
PRODID:-//Speedway Moose 500 - ECPv6.3.4//NONSGML v1.0//EN
CALSCALE:GREGORIAN
METHOD:PUBLISH
X-ORIGINAL-URL:https://speedwaymoose500.org
X-WR-CALDESC:Events for Speedway Moose 500
REFRESH-INTERVAL;VALUE=DURATION:PT1H
X-Robots-Tag:noindex
X-PUBLISHED-TTL:PT1H
BEGIN:VTIMEZONE
TZID:UTC
BEGIN:STANDARD
TZOFFSETFROM:+0000
TZOFFSETTO:+0000
TZNAME:UTC
DTSTART:20240101T000000
END:STANDARD
END:VTIMEZONE
BEGIN:VEVENT
DTSTART;TZID=UTC:20240710T160000
DTEND;TZID=UTC:20240710T230000
DTSTAMP:20260425T142116
CREATED:20231226T014744Z
LAST-MODIFIED:20231226T014744Z
UID:7049-1720627200-1720652400@speedwaymoose500.org
SUMMARY:Social Quarters Open
DESCRIPTION:
URL:https://speedwaymoose500.org/event/social-quarters-open-4/2024-07-10/
END:VEVENT
BEGIN:VEVENT
DTSTART;TZID=UTC:20240710T183000
DTEND;TZID=UTC:20240710T220000
DTSTAMP:20260425T142116
CREATED:20210503T184955Z
LAST-MODIFIED:20210503T184955Z
UID:6615-1720636200-1720648800@speedwaymoose500.org
SUMMARY:Karaoke
DESCRIPTION:
URL:https://speedwaymoose500.org/event/karaoke/2024-07-10/
END:VEVENT
END:VCALENDAR