BEGIN:VCALENDAR
VERSION:2.0
PRODID:-//Speedway Moose 500 - ECPv6.3.4//NONSGML v1.0//EN
CALSCALE:GREGORIAN
METHOD:PUBLISH
X-ORIGINAL-URL:https://speedwaymoose500.org
X-WR-CALDESC:Events for Speedway Moose 500
REFRESH-INTERVAL;VALUE=DURATION:PT1H
X-Robots-Tag:noindex
X-PUBLISHED-TTL:PT1H
BEGIN:VTIMEZONE
TZID:UTC
BEGIN:STANDARD
TZOFFSETFROM:+0000
TZOFFSETTO:+0000
TZNAME:UTC
DTSTART:20240101T000000
END:STANDARD
END:VTIMEZONE
BEGIN:VEVENT
DTSTART;TZID=UTC:20240727T160000
DTEND;TZID=UTC:20240727T230000
DTSTAMP:20260425T142239
CREATED:20240623T040721Z
LAST-MODIFIED:20250628T205404Z
UID:7970-1722096000-1722121200@speedwaymoose500.org
SUMMARY:Fellowship Night
DESCRIPTION:
URL:https://speedwaymoose500.org/event/fellowship-night/2024-07-27/
END:VEVENT
BEGIN:VEVENT
DTSTART;TZID=UTC:20240727T190000
DTEND;TZID=UTC:20240727T230000
DTSTAMP:20260425T142239
CREATED:20240622T180436Z
LAST-MODIFIED:20240622T180436Z
UID:7950-1722106800-1722121200@speedwaymoose500.org
SUMMARY:Band: The Party
DESCRIPTION:
URL:https://speedwaymoose500.org/event/band-the-party-2/
END:VEVENT
END:VCALENDAR