BEGIN:VCALENDAR
VERSION:2.0
PRODID:-//Speedway Moose 500 - ECPv6.3.4//NONSGML v1.0//EN
CALSCALE:GREGORIAN
METHOD:PUBLISH
X-ORIGINAL-URL:https://speedwaymoose500.org
X-WR-CALDESC:Events for Speedway Moose 500
REFRESH-INTERVAL;VALUE=DURATION:PT1H
X-Robots-Tag:noindex
X-PUBLISHED-TTL:PT1H
BEGIN:VTIMEZONE
TZID:UTC
BEGIN:STANDARD
TZOFFSETFROM:+0000
TZOFFSETTO:+0000
TZNAME:UTC
DTSTART:20240101T000000
END:STANDARD
END:VTIMEZONE
BEGIN:VEVENT
DTSTART;TZID=UTC:20240902T120000
DTEND;TZID=UTC:20240902T160000
DTSTAMP:20260425T215417
CREATED:20240818T234535Z
LAST-MODIFIED:20240818T234535Z
UID:8171-1725278400-1725292800@speedwaymoose500.org
SUMMARY:Labor Day Picnic
DESCRIPTION:
URL:https://speedwaymoose500.org/event/labor-day-picnic/
END:VEVENT
BEGIN:VEVENT
DTSTART;TZID=UTC:20240902T160000
DTEND;TZID=UTC:20240902T230000
DTSTAMP:20260425T215417
CREATED:20231226T014601Z
LAST-MODIFIED:20240818T234421Z
UID:6952-1725292800-1725318000@speedwaymoose500.org
SUMMARY:Social Quarters Closed Due to Picnic
DESCRIPTION:
URL:https://speedwaymoose500.org/event/social-quarters-open-3-2024-09-02/
END:VEVENT
END:VCALENDAR