BEGIN:VCALENDAR
VERSION:2.0
PRODID:-//Speedway Moose 500 - ECPv6.3.4//NONSGML v1.0//EN
CALSCALE:GREGORIAN
METHOD:PUBLISH
X-WR-CALNAME:Speedway Moose 500
X-ORIGINAL-URL:https://speedwaymoose500.org
X-WR-CALDESC:Events for Speedway Moose 500
REFRESH-INTERVAL;VALUE=DURATION:PT1H
X-Robots-Tag:noindex
X-PUBLISHED-TTL:PT1H
BEGIN:VTIMEZONE
TZID:UTC
BEGIN:STANDARD
TZOFFSETFROM:+0000
TZOFFSETTO:+0000
TZNAME:UTC
DTSTART:20240101T000000
END:STANDARD
END:VTIMEZONE
BEGIN:VEVENT
DTSTART;TZID=UTC:20240914T160000
DTEND;TZID=UTC:20240914T210000
DTSTAMP:20260425T195853
CREATED:20240419T145555Z
LAST-MODIFIED:20240819T002722Z
UID:7779-1726329600-1726347600@speedwaymoose500.org
SUMMARY:Chapter 518 1st Auction Night
DESCRIPTION:
URL:https://speedwaymoose500.org/event/chapter-518-ladies-night-2024-09-14/
END:VEVENT
BEGIN:VEVENT
DTSTART;TZID=UTC:20240914T190000
DTEND;TZID=UTC:20240914T230000
DTSTAMP:20260425T195853
CREATED:20240824T171648Z
LAST-MODIFIED:20240824T230435Z
UID:8349-1726340400-1726354800@speedwaymoose500.org
SUMMARY:BAND - Tune A Matics
DESCRIPTION:
URL:https://speedwaymoose500.org/event/band-tbd-11/
END:VEVENT
END:VCALENDAR