BEGIN:VCALENDAR
VERSION:2.0
PRODID:-//Speedway Moose 500 - ECPv6.3.4//NONSGML v1.0//EN
CALSCALE:GREGORIAN
METHOD:PUBLISH
X-ORIGINAL-URL:https://speedwaymoose500.org
X-WR-CALDESC:Events for Speedway Moose 500
REFRESH-INTERVAL;VALUE=DURATION:PT1H
X-Robots-Tag:noindex
X-PUBLISHED-TTL:PT1H
BEGIN:VTIMEZONE
TZID:UTC
BEGIN:STANDARD
TZOFFSETFROM:+0000
TZOFFSETTO:+0000
TZNAME:UTC
DTSTART:20240101T000000
END:STANDARD
END:VTIMEZONE
BEGIN:VEVENT
DTSTART;TZID=UTC:20241010T160000
DTEND;TZID=UTC:20241010T230000
DTSTAMP:20260425T233955
CREATED:20231226T015618Z
LAST-MODIFIED:20231226T015618Z
UID:7167-1728576000-1728601200@speedwaymoose500.org
SUMMARY:Social Quarters Open
DESCRIPTION:
URL:https://speedwaymoose500.org/event/social-quarters-open-5/2024-10-10/
END:VEVENT
BEGIN:VEVENT
DTSTART;TZID=UTC:20241010T173000
DTEND;TZID=UTC:20241010T183000
DTSTAMP:20260425T233955
CREATED:20210412T155925Z
LAST-MODIFIED:20210412T155925Z
UID:5228-1728581400-1728585000@speedwaymoose500.org
SUMMARY:Bingo - Warm-ups
DESCRIPTION:
URL:https://speedwaymoose500.org/event/bingo-warm-ups-2/2024-10-10/
END:VEVENT
BEGIN:VEVENT
DTSTART;TZID=UTC:20241010T183000
DTEND;TZID=UTC:20241010T183000
DTSTAMP:20260425T233955
CREATED:20210412T155459Z
LAST-MODIFIED:20210412T155459Z
UID:5227-1728585000-1728585000@speedwaymoose500.org
SUMMARY:Bingo - Regular Game
DESCRIPTION:
URL:https://speedwaymoose500.org/event/bingo/2024-10-10/
END:VEVENT
END:VCALENDAR