BEGIN:VCALENDAR
VERSION:2.0
PRODID:-//Speedway Moose 500 - ECPv6.3.4//NONSGML v1.0//EN
CALSCALE:GREGORIAN
METHOD:PUBLISH
X-WR-CALNAME:Speedway Moose 500
X-ORIGINAL-URL:https://speedwaymoose500.org
X-WR-CALDESC:Events for Speedway Moose 500
REFRESH-INTERVAL;VALUE=DURATION:PT1H
X-Robots-Tag:noindex
X-PUBLISHED-TTL:PT1H
BEGIN:VTIMEZONE
TZID:UTC
BEGIN:STANDARD
TZOFFSETFROM:+0000
TZOFFSETTO:+0000
TZNAME:UTC
DTSTART:20240101T000000
END:STANDARD
END:VTIMEZONE
BEGIN:VEVENT
DTSTART;VALUE=DATE:20241018
DTEND;VALUE=DATE:20241021
DTSTAMP:20260425T214859
CREATED:20240818T235647Z
LAST-MODIFIED:20240818T235647Z
UID:8205-1729209600-1729468799@speedwaymoose500.org
SUMMARY:Lodge Pool Tournament
DESCRIPTION:
URL:https://speedwaymoose500.org/event/lodge-pool-tournament/
END:VEVENT
BEGIN:VEVENT
DTSTART;TZID=UTC:20241019T190000
DTEND;TZID=UTC:20241019T230000
DTSTAMP:20260425T214859
CREATED:20240821T131144Z
LAST-MODIFIED:20240821T131248Z
UID:8336-1729364400-1729378800@speedwaymoose500.org
SUMMARY:No Band
DESCRIPTION:
URL:https://speedwaymoose500.org/event/no-band/
END:VEVENT
END:VCALENDAR