BEGIN:VCALENDAR
VERSION:2.0
PRODID:-//Speedway Moose 500 - ECPv6.3.4//NONSGML v1.0//EN
CALSCALE:GREGORIAN
METHOD:PUBLISH
X-ORIGINAL-URL:https://speedwaymoose500.org
X-WR-CALDESC:Events for Speedway Moose 500
REFRESH-INTERVAL;VALUE=DURATION:PT1H
X-Robots-Tag:noindex
X-PUBLISHED-TTL:PT1H
BEGIN:VTIMEZONE
TZID:UTC
BEGIN:STANDARD
TZOFFSETFROM:+0000
TZOFFSETTO:+0000
TZNAME:UTC
DTSTART:20240101T000000
END:STANDARD
END:VTIMEZONE
BEGIN:VEVENT
DTSTART;TZID=UTC:20241204T160000
DTEND;TZID=UTC:20241204T230000
DTSTAMP:20260426T032933
CREATED:20231226T014744Z
LAST-MODIFIED:20231226T014744Z
UID:7070-1733328000-1733353200@speedwaymoose500.org
SUMMARY:Social Quarters Open
DESCRIPTION:
URL:https://speedwaymoose500.org/event/social-quarters-open-4/2024-12-04/
END:VEVENT
BEGIN:VEVENT
DTSTART;TZID=UTC:20241204T183000
DTEND;TZID=UTC:20241204T220000
DTSTAMP:20260426T032933
CREATED:20210503T184955Z
LAST-MODIFIED:20210503T184955Z
UID:6636-1733337000-1733349600@speedwaymoose500.org
SUMMARY:Karaoke
DESCRIPTION:
URL:https://speedwaymoose500.org/event/karaoke/2024-12-04/
END:VEVENT
END:VCALENDAR