BEGIN:VCALENDAR
VERSION:2.0
PRODID:-//Speedway Moose 500 - ECPv6.3.4//NONSGML v1.0//EN
CALSCALE:GREGORIAN
METHOD:PUBLISH
X-ORIGINAL-URL:https://speedwaymoose500.org
X-WR-CALDESC:Events for Speedway Moose 500
REFRESH-INTERVAL;VALUE=DURATION:PT1H
X-Robots-Tag:noindex
X-PUBLISHED-TTL:PT1H
BEGIN:VTIMEZONE
TZID:UTC
BEGIN:STANDARD
TZOFFSETFROM:+0000
TZOFFSETTO:+0000
TZNAME:UTC
DTSTART:20240101T000000
END:STANDARD
END:VTIMEZONE
BEGIN:VEVENT
DTSTART;TZID=UTC:20241211T160000
DTEND;TZID=UTC:20241211T230000
DTSTAMP:20260426T032930
CREATED:20231226T014744Z
LAST-MODIFIED:20241128T015918Z
UID:7071-1733932800-1733958000@speedwaymoose500.org
SUMMARY:Social Quarters Closed
DESCRIPTION:
URL:https://speedwaymoose500.org/event/social-quarters-open-4-2024-12-11/
END:VEVENT
END:VCALENDAR