BEGIN:VCALENDAR
VERSION:2.0
PRODID:-//Speedway Moose 500 - ECPv6.3.4//NONSGML v1.0//EN
CALSCALE:GREGORIAN
METHOD:PUBLISH
X-ORIGINAL-URL:https://speedwaymoose500.org
X-WR-CALDESC:Events for Speedway Moose 500
REFRESH-INTERVAL;VALUE=DURATION:PT1H
X-Robots-Tag:noindex
X-PUBLISHED-TTL:PT1H
BEGIN:VTIMEZONE
TZID:UTC
BEGIN:STANDARD
TZOFFSETFROM:+0000
TZOFFSETTO:+0000
TZNAME:UTC
DTSTART:20240101T000000
END:STANDARD
END:VTIMEZONE
BEGIN:VEVENT
DTSTART;VALUE=DATE:20241231
DTEND;VALUE=DATE:20250102
DTSTAMP:20260426T032934
CREATED:20241028T180500Z
LAST-MODIFIED:20241028T180500Z
UID:8969-1735603200-1735775999@speedwaymoose500.org
SUMMARY:Social Quarters Closed
DESCRIPTION:
URL:https://speedwaymoose500.org/event/social-quarters-closed-8/
END:VEVENT
BEGIN:VEVENT
DTSTART;VALUE=DATE:20250101
DTEND;VALUE=DATE:20250102
DTSTAMP:20260426T032934
CREATED:20241028T175855Z
LAST-MODIFIED:20241028T175855Z
UID:8963-1735689600-1735775999@speedwaymoose500.org
SUMMARY:Happy New Year
DESCRIPTION:
URL:https://speedwaymoose500.org/event/happy-new-year/
END:VEVENT
END:VCALENDAR