BEGIN:VCALENDAR
VERSION:2.0
PRODID:-//Speedway Moose 500 - ECPv6.3.4//NONSGML v1.0//EN
CALSCALE:GREGORIAN
METHOD:PUBLISH
X-ORIGINAL-URL:https://speedwaymoose500.org
X-WR-CALDESC:Events for Speedway Moose 500
REFRESH-INTERVAL;VALUE=DURATION:PT1H
X-Robots-Tag:noindex
X-PUBLISHED-TTL:PT1H
BEGIN:VTIMEZONE
TZID:UTC
BEGIN:STANDARD
TZOFFSETFROM:+0000
TZOFFSETTO:+0000
TZNAME:UTC
DTSTART:20250101T000000
END:STANDARD
END:VTIMEZONE
BEGIN:VEVENT
DTSTART;TZID=UTC:20250208T100000
DTEND;TZID=UTC:20250208T120000
DTSTAMP:20260421T104912
CREATED:20241229T191738Z
LAST-MODIFIED:20241229T191738Z
UID:9272-1739008800-1739016000@speedwaymoose500.org
SUMMARY:5th Dist/HH-27 Mtg Grnwd Lodge
DESCRIPTION:
URL:https://speedwaymoose500.org/event/5th-dist-hh-27-mtg-grnwd-lodge/
END:VEVENT
BEGIN:VEVENT
DTSTART;TZID=UTC:20250208T160000
DTEND;TZID=UTC:20250208T210000
DTSTAMP:20260421T104912
CREATED:20240419T145555Z
LAST-MODIFIED:20240419T145555Z
UID:7784-1739030400-1739048400@speedwaymoose500.org
SUMMARY:Chapter 518 Ladies Night
DESCRIPTION:
URL:https://speedwaymoose500.org/event/chapter-518-ladies-night/2025-02-08/
END:VEVENT
BEGIN:VEVENT
DTSTART;TZID=UTC:20250208T190000
DTEND;TZID=UTC:20250208T230000
DTSTAMP:20260421T104912
CREATED:20241229T184339Z
LAST-MODIFIED:20241229T184339Z
UID:9254-1739041200-1739055600@speedwaymoose500.org
SUMMARY:Band - Tun-O-Matics
DESCRIPTION:
URL:https://speedwaymoose500.org/event/band-tun-o-matics/
END:VEVENT
BEGIN:VEVENT
DTSTART;TZID=UTC:20250208T190000
DTEND;TZID=UTC:20250208T230000
DTSTAMP:20260421T104912
CREATED:20250226T131641Z
LAST-MODIFIED:20250226T131641Z
UID:9442-1739041200-1739055600@speedwaymoose500.org
SUMMARY:Band - Friends Band
DESCRIPTION:
URL:https://speedwaymoose500.org/event/band-friends-band-3/
END:VEVENT
END:VCALENDAR