BEGIN:VCALENDAR
VERSION:2.0
PRODID:-//Speedway Moose 500 - ECPv6.3.4//NONSGML v1.0//EN
CALSCALE:GREGORIAN
METHOD:PUBLISH
X-WR-CALNAME:Speedway Moose 500
X-ORIGINAL-URL:https://speedwaymoose500.org
X-WR-CALDESC:Events for Speedway Moose 500
REFRESH-INTERVAL;VALUE=DURATION:PT1H
X-Robots-Tag:noindex
X-PUBLISHED-TTL:PT1H
BEGIN:VTIMEZONE
TZID:UTC
BEGIN:STANDARD
TZOFFSETFROM:+0000
TZOFFSETTO:+0000
TZNAME:UTC
DTSTART:20260101T000000
END:STANDARD
END:VTIMEZONE
BEGIN:VEVENT
DTSTART;TZID=UTC:20260806T160000
DTEND;TZID=UTC:20260806T230000
DTSTAMP:20260421T123902
CREATED:20231226T015618Z
LAST-MODIFIED:20231226T015618Z
UID:8136-1786032000-1786057200@speedwaymoose500.org
SUMMARY:Social Quarters Open
DESCRIPTION:
URL:https://speedwaymoose500.org/event/social-quarters-open-5/2026-08-06/
END:VEVENT
BEGIN:VEVENT
DTSTART;TZID=UTC:20260806T173000
DTEND;TZID=UTC:20260806T183000
DTSTAMP:20260421T123902
CREATED:20210412T155925Z
LAST-MODIFIED:20210412T155925Z
UID:8135-1786037400-1786041000@speedwaymoose500.org
SUMMARY:Bingo - Warm-ups
DESCRIPTION:
URL:https://speedwaymoose500.org/event/bingo-warm-ups-2/2026-08-06/
END:VEVENT
BEGIN:VEVENT
DTSTART;TZID=UTC:20260806T183000
DTEND;TZID=UTC:20260806T183000
DTSTAMP:20260421T123902
CREATED:20210412T155459Z
LAST-MODIFIED:20210412T155459Z
UID:8134-1786041000-1786041000@speedwaymoose500.org
SUMMARY:Bingo - Regular Game
DESCRIPTION:
URL:https://speedwaymoose500.org/event/bingo/2026-08-06/
END:VEVENT
END:VCALENDAR