BEGIN:VCALENDAR
VERSION:2.0
PRODID:-//Speedway Moose 500 - ECPv6.3.4//NONSGML v1.0//EN
CALSCALE:GREGORIAN
METHOD:PUBLISH
X-WR-CALNAME:Speedway Moose 500
X-ORIGINAL-URL:https://speedwaymoose500.org
X-WR-CALDESC:Events for Speedway Moose 500
REFRESH-INTERVAL;VALUE=DURATION:PT1H
X-Robots-Tag:noindex
X-PUBLISHED-TTL:PT1H
BEGIN:VTIMEZONE
TZID:UTC
BEGIN:STANDARD
TZOFFSETFROM:+0000
TZOFFSETTO:+0000
TZNAME:UTC
DTSTART:20260101T000000
END:STANDARD
END:VTIMEZONE
BEGIN:VEVENT
DTSTART;TZID=UTC:20260818T160000
DTEND;TZID=UTC:20260818T230000
DTSTAMP:20260421T124126
CREATED:20231226T014313Z
LAST-MODIFIED:20231226T014313Z
UID:8309-1787068800-1787094000@speedwaymoose500.org
SUMMARY:Social Quarters Open
DESCRIPTION:
URL:https://speedwaymoose500.org/event/social-quarters-open-2/2026-08-18/
END:VEVENT
BEGIN:VEVENT
DTSTART;TZID=UTC:20260818T173000
DTEND;TZID=UTC:20260818T183000
DTSTAMP:20260421T124126
CREATED:20210503T184837Z
LAST-MODIFIED:20210503T184837Z
UID:8308-1787074200-1787077800@speedwaymoose500.org
SUMMARY:Bingo – Warm-ups
DESCRIPTION:
URL:https://speedwaymoose500.org/event/bingo-warm-ups-3/2026-08-18/
END:VEVENT
BEGIN:VEVENT
DTSTART;TZID=UTC:20260818T183000
DTEND;TZID=UTC:20260818T183000
DTSTAMP:20260421T124126
CREATED:20210412T155459Z
LAST-MODIFIED:20210412T155459Z
UID:8307-1787077800-1787077800@speedwaymoose500.org
SUMMARY:Bingo - Regular Game
DESCRIPTION:
URL:https://speedwaymoose500.org/event/bingo/2026-08-18/
END:VEVENT
END:VCALENDAR