BEGIN:VCALENDAR
VERSION:2.0
PRODID:-//Speedway Moose 500 - ECPv6.3.4//NONSGML v1.0//EN
CALSCALE:GREGORIAN
METHOD:PUBLISH
X-ORIGINAL-URL:https://speedwaymoose500.org
X-WR-CALDESC:Events for Speedway Moose 500
REFRESH-INTERVAL;VALUE=DURATION:PT1H
X-Robots-Tag:noindex
X-PUBLISHED-TTL:PT1H
BEGIN:VTIMEZONE
TZID:UTC
BEGIN:STANDARD
TZOFFSETFROM:+0000
TZOFFSETTO:+0000
TZNAME:UTC
DTSTART:20260101T000000
END:STANDARD
END:VTIMEZONE
BEGIN:VEVENT
DTSTART;TZID=UTC:20261115T120000
DTEND;TZID=UTC:20261115T180000
DTSTAMP:20260423T165032
CREATED:20231226T013945Z
LAST-MODIFIED:20231226T013945Z
UID:9033-1794744000-1794765600@speedwaymoose500.org
SUMMARY:Social Quarters Open
DESCRIPTION:
URL:https://speedwaymoose500.org/event/social-quarters-open/2026-11-15/
END:VEVENT
BEGIN:VEVENT
DTSTART;TZID=UTC:20261115T133000
DTEND;TZID=UTC:20261115T143000
DTSTAMP:20260423T165032
CREATED:20220222T202200Z
LAST-MODIFIED:20220222T202200Z
UID:9030-1794749400-1794753000@speedwaymoose500.org
SUMMARY:Bingo - Warm-ups *
DESCRIPTION:
URL:https://speedwaymoose500.org/event/bingo-warm-ups/2026-11-15/
END:VEVENT
BEGIN:VEVENT
DTSTART;TZID=UTC:20261115T143000
DTEND;TZID=UTC:20261115T180000
DTSTAMP:20260423T165032
CREATED:20220222T202330Z
LAST-MODIFIED:20250226T134318Z
UID:9031-1794753000-1794765600@speedwaymoose500.org
SUMMARY:Bingo - Regular Games
DESCRIPTION:
URL:https://speedwaymoose500.org/event/bingo-regular-games-2023-02-26/2026-11-15/
END:VEVENT
END:VCALENDAR