BEGIN:VCALENDAR
VERSION:2.0
PRODID:-//Speedway Moose 500 - ECPv6.3.4//NONSGML v1.0//EN
CALSCALE:GREGORIAN
METHOD:PUBLISH
X-WR-CALNAME:Speedway Moose 500
X-ORIGINAL-URL:https://speedwaymoose500.org
X-WR-CALDESC:Events for Speedway Moose 500
REFRESH-INTERVAL;VALUE=DURATION:PT1H
X-Robots-Tag:noindex
X-PUBLISHED-TTL:PT1H
BEGIN:VTIMEZONE
TZID:UTC
BEGIN:STANDARD
TZOFFSETFROM:+0000
TZOFFSETTO:+0000
TZNAME:UTC
DTSTART:20260101T000000
END:STANDARD
END:VTIMEZONE
BEGIN:VEVENT
DTSTART;TZID=UTC:20261130T160000
DTEND;TZID=UTC:20261130T230000
DTSTAMP:20260423T182032
CREATED:20231226T014601Z
LAST-MODIFIED:20231226T014601Z
UID:9076-1796054400-1796079600@speedwaymoose500.org
SUMMARY:Social Quarters Open
DESCRIPTION:
URL:https://speedwaymoose500.org/event/social-quarters-open-3/2026-11-30/
END:VEVENT
BEGIN:VEVENT
DTSTART;TZID=UTC:20261130T183000
DTEND;TZID=UTC:20261130T220000
DTSTAMP:20260423T182032
CREATED:20251031T154233Z
LAST-MODIFIED:20251031T154233Z
UID:10466-1796063400-1796076000@speedwaymoose500.org
SUMMARY:Karaoke
DESCRIPTION:
URL:https://speedwaymoose500.org/event/karaoke-4/2026-11-30/
END:VEVENT
END:VCALENDAR