BEGIN:VCALENDAR
VERSION:2.0
PRODID:-//Speedway Moose 500 - ECPv6.3.4//NONSGML v1.0//EN
CALSCALE:GREGORIAN
METHOD:PUBLISH
X-WR-CALNAME:Speedway Moose 500
X-ORIGINAL-URL:https://speedwaymoose500.org
X-WR-CALDESC:Events for Speedway Moose 500
REFRESH-INTERVAL;VALUE=DURATION:PT1H
X-Robots-Tag:noindex
X-PUBLISHED-TTL:PT1H
BEGIN:VTIMEZONE
TZID:UTC
BEGIN:STANDARD
TZOFFSETFROM:+0000
TZOFFSETTO:+0000
TZNAME:UTC
DTSTART:20270101T000000
END:STANDARD
END:VTIMEZONE
BEGIN:VEVENT
DTSTART;TZID=UTC:20270301T160000
DTEND;TZID=UTC:20270301T230000
DTSTAMP:20260423T214354
CREATED:20231226T014601Z
LAST-MODIFIED:20231226T014601Z
UID:9520-1803916800-1803942000@speedwaymoose500.org
SUMMARY:Social Quarters Open
DESCRIPTION:
URL:https://speedwaymoose500.org/event/social-quarters-open-3/2027-03-01/
END:VEVENT
BEGIN:VEVENT
DTSTART;TZID=UTC:20270301T180000
DTEND;TZID=UTC:20270301T180000
DTSTAMP:20260423T214354
CREATED:20210503T185832Z
LAST-MODIFIED:20210503T185832Z
UID:9519-1803924000-1803924000@speedwaymoose500.org
SUMMARY:Lodge Moose Legion Meeting
DESCRIPTION:
URL:https://speedwaymoose500.org/event/lodge-moose-legion-meeting/2027-03-01/
END:VEVENT
END:VCALENDAR