BEGIN:VCALENDAR
VERSION:2.0
PRODID:-//Speedway Moose 500 - ECPv6.3.4//NONSGML v1.0//EN
CALSCALE:GREGORIAN
METHOD:PUBLISH
X-ORIGINAL-URL:https://speedwaymoose500.org
X-WR-CALDESC:Events for Speedway Moose 500
REFRESH-INTERVAL;VALUE=DURATION:PT1H
X-Robots-Tag:noindex
X-PUBLISHED-TTL:PT1H
BEGIN:VTIMEZONE
TZID:UTC
BEGIN:STANDARD
TZOFFSETFROM:+0000
TZOFFSETTO:+0000
TZNAME:UTC
DTSTART:20230101T000000
END:STANDARD
END:VTIMEZONE
BEGIN:VEVENT
DTSTART;VALUE=DATE:20230603
DTEND;VALUE=DATE:20230604
DTSTAMP:20260424T114158
CREATED:20230429T215645Z
LAST-MODIFIED:20230429T215645Z
UID:5786-1685750400-1685836799@speedwaymoose500.org
SUMMARY:Moose Riders Dinner Night
DESCRIPTION:
URL:https://speedwaymoose500.org/event/moose-riders-dinner-night-2/
END:VEVENT
BEGIN:VEVENT
DTSTART;TZID=UTC:20230603T200000
DTEND;TZID=UTC:20230603T235900
DTSTAMP:20260424T114158
CREATED:20230429T194646Z
LAST-MODIFIED:20230429T194646Z
UID:5767-1685822400-1685836740@speedwaymoose500.org
SUMMARY:Band - Somewhere South
DESCRIPTION:
URL:https://speedwaymoose500.org/event/band-somewhere-south-2/
END:VEVENT
BEGIN:VEVENT
DTSTART;VALUE=DATE:20230610
DTEND;VALUE=DATE:20230611
DTSTAMP:20260424T114158
CREATED:20230429T220914Z
LAST-MODIFIED:20230429T220914Z
UID:5797-1686355200-1686441599@speedwaymoose500.org
SUMMARY:Dinner Special Chicken Fried Chicken
DESCRIPTION:
URL:https://speedwaymoose500.org/event/dinner-special-chicken-fried-chicken/
END:VEVENT
BEGIN:VEVENT
DTSTART;TZID=UTC:20230610T200000
DTEND;TZID=UTC:20230610T235900
DTSTAMP:20260424T114158
CREATED:20230429T194743Z
LAST-MODIFIED:20230429T194743Z
UID:5769-1686427200-1686441540@speedwaymoose500.org
SUMMARY:Band - Terry Lee Ridley
DESCRIPTION:
URL:https://speedwaymoose500.org/event/band-terry-lee-ridley-4/
END:VEVENT
BEGIN:VEVENT
DTSTART;VALUE=DATE:20230617
DTEND;VALUE=DATE:20230618
DTSTAMP:20260424T114158
CREATED:20230429T215846Z
LAST-MODIFIED:20230429T215846Z
UID:5792-1686960000-1687046399@speedwaymoose500.org
SUMMARY:Moose Legion Dinner Night
DESCRIPTION:
URL:https://speedwaymoose500.org/event/moose-legion-dinner-night-3/
END:VEVENT
BEGIN:VEVENT
DTSTART;TZID=UTC:20230617T200000
DTEND;TZID=UTC:20230617T235900
DTSTAMP:20260424T114158
CREATED:20230429T194830Z
LAST-MODIFIED:20230429T194830Z
UID:5771-1687032000-1687046340@speedwaymoose500.org
SUMMARY:Band - Bigger is Better
DESCRIPTION:
URL:https://speedwaymoose500.org/event/band-bigger-is-better-19/
END:VEVENT
BEGIN:VEVENT
DTSTART;VALUE=DATE:20230619
DTEND;VALUE=DATE:20230624
DTSTAMP:20260424T114158
CREATED:20230429T195513Z
LAST-MODIFIED:20230429T195513Z
UID:5777-1687132800-1687564799@speedwaymoose500.org
SUMMARY:MI - Convention Reno\, NV
DESCRIPTION:
URL:https://speedwaymoose500.org/event/mi-convention-reno-nv/
END:VEVENT
BEGIN:VEVENT
DTSTART;VALUE=DATE:20230619
DTEND;VALUE=DATE:20230620
DTSTAMP:20260424T114158
CREATED:20230611T185436Z
LAST-MODIFIED:20230611T185436Z
UID:5837-1687132800-1687219199@speedwaymoose500.org
SUMMARY:Lodge Closed
DESCRIPTION:
URL:https://speedwaymoose500.org/event/lodge-closed-5/
END:VEVENT
BEGIN:VEVENT
DTSTART;VALUE=DATE:20230624
DTEND;VALUE=DATE:20230625
DTSTAMP:20260424T114158
CREATED:20230429T221006Z
LAST-MODIFIED:20230429T221006Z
UID:5799-1687564800-1687651199@speedwaymoose500.org
SUMMARY:Dinner Special AYCE Fried Shrimp
DESCRIPTION:
URL:https://speedwaymoose500.org/event/dinner-special-ayce-fried-shrimp/
END:VEVENT
BEGIN:VEVENT
DTSTART;TZID=UTC:20230624T200000
DTEND;TZID=UTC:20230624T235900
DTSTAMP:20260424T114158
CREATED:20230429T194931Z
LAST-MODIFIED:20230429T194931Z
UID:5773-1687636800-1687651140@speedwaymoose500.org
SUMMARY:Band - Southern Bridges
DESCRIPTION:
URL:https://speedwaymoose500.org/event/band-southern-bridges-10/
END:VEVENT
END:VCALENDAR