BEGIN:VCALENDAR
VERSION:2.0
PRODID:-//Speedway Moose 500 - ECPv6.3.4//NONSGML v1.0//EN
CALSCALE:GREGORIAN
METHOD:PUBLISH
X-WR-CALNAME:Speedway Moose 500
X-ORIGINAL-URL:https://speedwaymoose500.org
X-WR-CALDESC:Events for Speedway Moose 500
REFRESH-INTERVAL;VALUE=DURATION:PT1H
X-Robots-Tag:noindex
X-PUBLISHED-TTL:PT1H
BEGIN:VTIMEZONE
TZID:UTC
BEGIN:STANDARD
TZOFFSETFROM:+0000
TZOFFSETTO:+0000
TZNAME:UTC
DTSTART:20230101T000000
END:STANDARD
END:VTIMEZONE
BEGIN:VEVENT
DTSTART;TZID=UTC:20230902T160000
DTEND;TZID=UTC:20230902T210000
DTSTAMP:20260424T062414
CREATED:20230611T225206Z
LAST-MODIFIED:20230827T170545Z
UID:5855-1693670400-1693688400@speedwaymoose500.org
SUMMARY:Special - Hamburger Steak w/Mushrooms
DESCRIPTION:
URL:https://speedwaymoose500.org/event/moose-riders-dinner-2/
END:VEVENT
BEGIN:VEVENT
DTSTART;TZID=UTC:20230902T190000
DTEND;TZID=UTC:20230902T230000
DTSTAMP:20260424T062414
CREATED:20230827T170731Z
LAST-MODIFIED:20230827T170731Z
UID:5880-1693681200-1693695600@speedwaymoose500.org
SUMMARY:Band - Lazy Boy Rockers
DESCRIPTION:
URL:https://speedwaymoose500.org/event/band-lazy-boy-rockers/
END:VEVENT
BEGIN:VEVENT
DTSTART;VALUE=DATE:20230904
DTEND;VALUE=DATE:20230905
DTSTAMP:20260424T062414
CREATED:20230611T225945Z
LAST-MODIFIED:20230611T225945Z
UID:5862-1693785600-1693871999@speedwaymoose500.org
SUMMARY:Lodge Closed Due to Picnic
DESCRIPTION:
URL:https://speedwaymoose500.org/event/lodge-closed-due-to-picnic-3/
END:VEVENT
BEGIN:VEVENT
DTSTART;TZID=UTC:20230904T120000
DTEND;TZID=UTC:20230904T160000
DTSTAMP:20260424T062414
CREATED:20230611T230036Z
LAST-MODIFIED:20230611T230036Z
UID:5864-1693828800-1693843200@speedwaymoose500.org
SUMMARY:Lodge Picnic
DESCRIPTION:
URL:https://speedwaymoose500.org/event/lodge-picnic-2/
END:VEVENT
BEGIN:VEVENT
DTSTART;TZID=UTC:20230909T160000
DTEND;TZID=UTC:20230909T210000
DTSTAMP:20260424T062414
CREATED:20230827T171022Z
LAST-MODIFIED:20230827T171022Z
UID:5882-1694275200-1694293200@speedwaymoose500.org
SUMMARY:Special - Country Fried Pork
DESCRIPTION:
URL:https://speedwaymoose500.org/event/special-country-fried-pork/
END:VEVENT
BEGIN:VEVENT
DTSTART;TZID=UTC:20230909T190000
DTEND;TZID=UTC:20230909T230000
DTSTAMP:20260424T062414
CREATED:20230611T224831Z
LAST-MODIFIED:20230827T170846Z
UID:5849-1694286000-1694300400@speedwaymoose500.org
SUMMARY:Band - Tune-o-matics
DESCRIPTION:
URL:https://speedwaymoose500.org/event/band-tune-o-matics-3/
END:VEVENT
BEGIN:VEVENT
DTSTART;VALUE=DATE:20230910
DTEND;VALUE=DATE:20230911
DTSTAMP:20260424T062414
CREATED:20230829T152647Z
LAST-MODIFIED:20230829T152647Z
UID:5917-1694304000-1694390399@speedwaymoose500.org
SUMMARY:10K Bingo Day
DESCRIPTION:
URL:https://speedwaymoose500.org/event/10k-bingo-day/
END:VEVENT
BEGIN:VEVENT
DTSTART;VALUE=DATE:20230916
DTEND;VALUE=DATE:20230918
DTSTAMP:20260424T062414
CREATED:20230611T225308Z
LAST-MODIFIED:20230829T152537Z
UID:5857-1694822400-1694995199@speedwaymoose500.org
SUMMARY:Mooseheart Trip
DESCRIPTION:
URL:https://speedwaymoose500.org/event/indiana-day-mooseheart-trip/
END:VEVENT
BEGIN:VEVENT
DTSTART;VALUE=DATE:20230916
DTEND;VALUE=DATE:20230918
DTSTAMP:20260424T062414
CREATED:20230829T152423Z
LAST-MODIFIED:20230829T152423Z
UID:5914-1694822400-1694995199@speedwaymoose500.org
SUMMARY:Lodge Closed
DESCRIPTION:
URL:https://speedwaymoose500.org/event/lodge-closed-6/
END:VEVENT
BEGIN:VEVENT
DTSTART;TZID=UTC:20230923T160000
DTEND;TZID=UTC:20230923T210000
DTSTAMP:20260424T062414
CREATED:20230827T171301Z
LAST-MODIFIED:20230827T171301Z
UID:5884-1695484800-1695502800@speedwaymoose500.org
SUMMARY:Special - Meatloaf
DESCRIPTION:
URL:https://speedwaymoose500.org/event/special-meatloaf-2/
END:VEVENT
BEGIN:VEVENT
DTSTART;TZID=UTC:20230923T190000
DTEND;TZID=UTC:20230923T230000
DTSTAMP:20260424T062414
CREATED:20230611T224929Z
LAST-MODIFIED:20230827T171150Z
UID:5851-1695495600-1695510000@speedwaymoose500.org
SUMMARY:Band - Bigger is Better
DESCRIPTION:
URL:https://speedwaymoose500.org/event/band-bigger-is-better-22/
END:VEVENT
BEGIN:VEVENT
DTSTART;TZID=UTC:20230930T160000
DTEND;TZID=UTC:20230930T210000
DTSTAMP:20260424T062414
CREATED:20230827T171609Z
LAST-MODIFIED:20230827T171609Z
UID:5886-1696089600-1696107600@speedwaymoose500.org
SUMMARY:Special - Fried Pollock
DESCRIPTION:
URL:https://speedwaymoose500.org/event/special-fried-pollock/
END:VEVENT
BEGIN:VEVENT
DTSTART;TZID=UTC:20230930T190000
DTEND;TZID=UTC:20230930T230000
DTSTAMP:20260424T062414
CREATED:20230611T225017Z
LAST-MODIFIED:20230827T171426Z
UID:5853-1696100400-1696114800@speedwaymoose500.org
SUMMARY:Band - Project 19
DESCRIPTION:
URL:https://speedwaymoose500.org/event/band-project-19-11/
END:VEVENT
END:VCALENDAR