BEGIN:VCALENDAR
VERSION:2.0
PRODID:-//Speedway Moose 500 - ECPv6.3.4//NONSGML v1.0//EN
CALSCALE:GREGORIAN
METHOD:PUBLISH
X-ORIGINAL-URL:https://speedwaymoose500.org
X-WR-CALDESC:Events for Speedway Moose 500
REFRESH-INTERVAL;VALUE=DURATION:PT1H
X-Robots-Tag:noindex
X-PUBLISHED-TTL:PT1H
BEGIN:VTIMEZONE
TZID:UTC
BEGIN:STANDARD
TZOFFSETFROM:+0000
TZOFFSETTO:+0000
TZNAME:UTC
DTSTART:20230101T000000
END:STANDARD
END:VTIMEZONE
BEGIN:VEVENT
DTSTART;TZID=UTC:20231007T080000
DTEND;TZID=UTC:20231007T150000
DTSTAMP:20260424T001937
CREATED:20230611T230307Z
LAST-MODIFIED:20230611T230531Z
UID:5866-1696665600-1696690800@speedwaymoose500.org
SUMMARY:Car Show
DESCRIPTION:
URL:https://speedwaymoose500.org/event/car-show-3/
END:VEVENT
BEGIN:VEVENT
DTSTART;TZID=UTC:20231007T160000
DTEND;TZID=UTC:20231007T210000
DTSTAMP:20260424T001937
CREATED:20230827T173944Z
LAST-MODIFIED:20230829T225422Z
UID:5892-1696694400-1696712400@speedwaymoose500.org
SUMMARY:Sports Dinner Night
DESCRIPTION:
URL:https://speedwaymoose500.org/event/riders-dinner-night/
END:VEVENT
BEGIN:VEVENT
DTSTART;TZID=UTC:20231007T190000
DTEND;TZID=UTC:20231007T230000
DTSTAMP:20260424T001937
CREATED:20230827T173740Z
LAST-MODIFIED:20230827T173740Z
UID:5890-1696705200-1696719600@speedwaymoose500.org
SUMMARY:Band - Terry Lee
DESCRIPTION:
URL:https://speedwaymoose500.org/event/band-terry-lee/
END:VEVENT
BEGIN:VEVENT
DTSTART;TZID=UTC:20231014T160000
DTEND;TZID=UTC:20231014T210000
DTSTAMP:20260424T001937
CREATED:20230827T174843Z
LAST-MODIFIED:20230827T174843Z
UID:5897-1697299200-1697317200@speedwaymoose500.org
SUMMARY:Special - Fried Chicken Livers
DESCRIPTION:
URL:https://speedwaymoose500.org/event/special-fried-chicken-livers/
END:VEVENT
BEGIN:VEVENT
DTSTART;TZID=UTC:20231014T190000
DTEND;TZID=UTC:20231014T230000
DTSTAMP:20260424T001937
CREATED:20230827T175228Z
LAST-MODIFIED:20230827T175228Z
UID:5901-1697310000-1697324400@speedwaymoose500.org
SUMMARY:Band - Southern Bridges
DESCRIPTION:
URL:https://speedwaymoose500.org/event/band-southern-bridges-13/
END:VEVENT
BEGIN:VEVENT
DTSTART;VALUE=DATE:20231020
DTEND;VALUE=DATE:20231023
DTSTAMP:20260424T001937
CREATED:20230827T174107Z
LAST-MODIFIED:20230827T174107Z
UID:5894-1697760000-1698019199@speedwaymoose500.org
SUMMARY:IMA Convention
DESCRIPTION:
URL:https://speedwaymoose500.org/event/ima-convention-2/
END:VEVENT
BEGIN:VEVENT
DTSTART;TZID=UTC:20231021T160000
DTEND;TZID=UTC:20231021T210000
DTSTAMP:20260424T001937
CREATED:20230827T175529Z
LAST-MODIFIED:20230827T175529Z
UID:5905-1697904000-1697922000@speedwaymoose500.org
SUMMARY:Specials - Prime Rib + AYCE Shrimp
DESCRIPTION:
URL:https://speedwaymoose500.org/event/specials-prime-rib-ayce-shrimp/
END:VEVENT
BEGIN:VEVENT
DTSTART;TZID=UTC:20231021T190000
DTEND;TZID=UTC:20231021T230000
DTSTAMP:20260424T001937
CREATED:20230827T175350Z
LAST-MODIFIED:20230827T175350Z
UID:5903-1697914800-1697929200@speedwaymoose500.org
SUMMARY:Band - Tune-o-matics
DESCRIPTION:
URL:https://speedwaymoose500.org/event/band-tune-o-matics-4/
END:VEVENT
BEGIN:VEVENT
DTSTART;TZID=UTC:20231028T160000
DTEND;TZID=UTC:20231028T210000
DTSTAMP:20260424T001937
CREATED:20230827T175037Z
LAST-MODIFIED:20230827T175037Z
UID:5899-1698508800-1698526800@speedwaymoose500.org
SUMMARY:Special - Beef & Noodles
DESCRIPTION:
URL:https://speedwaymoose500.org/event/special-beef-noodles/
END:VEVENT
BEGIN:VEVENT
DTSTART;TZID=UTC:20231028T190000
DTEND;TZID=UTC:20231028T230000
DTSTAMP:20260424T001937
CREATED:20230827T175736Z
LAST-MODIFIED:20230827T175736Z
UID:5907-1698519600-1698534000@speedwaymoose500.org
SUMMARY:Band - Bigger is Better
DESCRIPTION:
URL:https://speedwaymoose500.org/event/band-bigger-is-better-23/
END:VEVENT
END:VCALENDAR