BEGIN:VCALENDAR
VERSION:2.0
PRODID:-//Speedway Moose 500 - ECPv6.3.4//NONSGML v1.0//EN
CALSCALE:GREGORIAN
METHOD:PUBLISH
X-WR-CALNAME:Speedway Moose 500
X-ORIGINAL-URL:https://speedwaymoose500.org
X-WR-CALDESC:Events for Speedway Moose 500
REFRESH-INTERVAL;VALUE=DURATION:PT1H
X-Robots-Tag:noindex
X-PUBLISHED-TTL:PT1H
BEGIN:VTIMEZONE
TZID:UTC
BEGIN:STANDARD
TZOFFSETFROM:+0000
TZOFFSETTO:+0000
TZNAME:UTC
DTSTART:20230101T000000
END:STANDARD
END:VTIMEZONE
BEGIN:VEVENT
DTSTART;TZID=UTC:20231104T160000
DTEND;TZID=UTC:20231104T210000
DTSTAMP:20260423T222224
CREATED:20230827T180138Z
LAST-MODIFIED:20231031T113537Z
UID:5911-1699113600-1699131600@speedwaymoose500.org
SUMMARY:Sports Committee Steak Night
DESCRIPTION:
URL:https://speedwaymoose500.org/event/riders-dinner-night-2/
END:VEVENT
BEGIN:VEVENT
DTSTART;TZID=UTC:20231104T190000
DTEND;TZID=UTC:20231104T230000
DTSTAMP:20260423T222224
CREATED:20230827T175927Z
LAST-MODIFIED:20230827T175927Z
UID:5909-1699124400-1699138800@speedwaymoose500.org
SUMMARY:Band - Project 19
DESCRIPTION:
URL:https://speedwaymoose500.org/event/band-project-19-12/
END:VEVENT
BEGIN:VEVENT
DTSTART;TZID=UTC:20231110T180000
DTEND;TZID=UTC:20231110T183000
DTSTAMP:20260423T222224
CREATED:20220221T234433Z
LAST-MODIFIED:20250628T184909Z
UID:3240-1699639200-1699641000@speedwaymoose500.org
SUMMARY:Lodge/Moose Orientation
DESCRIPTION:
URL:https://speedwaymoose500.org/event/lodge-moose-orientation-2023-11-04/2023-11-10/
END:VEVENT
BEGIN:VEVENT
DTSTART;TZID=UTC:20231111T190000
DTEND;TZID=UTC:20231111T230000
DTSTAMP:20260423T222224
CREATED:20231031T114043Z
LAST-MODIFIED:20231101T222128Z
UID:6284-1699729200-1699743600@speedwaymoose500.org
SUMMARY:Band - Jason Salyer Band
DESCRIPTION:
URL:https://speedwaymoose500.org/event/band-tbd-8/
END:VEVENT
BEGIN:VEVENT
DTSTART;TZID=UTC:20231118T190000
DTEND;TZID=UTC:20231118T230000
DTSTAMP:20260423T222224
CREATED:20231031T114658Z
LAST-MODIFIED:20231031T114658Z
UID:6289-1700334000-1700348400@speedwaymoose500.org
SUMMARY:Band - Terry Lee
DESCRIPTION:
URL:https://speedwaymoose500.org/event/band-terry-lee-2/
END:VEVENT
BEGIN:VEVENT
DTSTART;VALUE=DATE:20231123
DTEND;VALUE=DATE:20231124
DTSTAMP:20260423T222224
CREATED:20231031T115514Z
LAST-MODIFIED:20231031T115514Z
UID:6299-1700697600-1700783999@speedwaymoose500.org
SUMMARY:Happy Thanksgiving
DESCRIPTION:
URL:https://speedwaymoose500.org/event/happy-thanksgiving-2/
END:VEVENT
BEGIN:VEVENT
DTSTART;VALUE=DATE:20231123
DTEND;VALUE=DATE:20231124
DTSTAMP:20260423T222224
CREATED:20210412T155925Z
LAST-MODIFIED:20231031T115431Z
UID:2611-1700697600-1700783999@speedwaymoose500.org
SUMMARY:Lodge Closed
DESCRIPTION:
URL:https://speedwaymoose500.org/event/bingo-warm-ups-2-2023-11-23/
END:VEVENT
BEGIN:VEVENT
DTSTART;TZID=UTC:20231124T090000
DTEND;TZID=UTC:20231124T123000
DTSTAMP:20260423T222224
CREATED:20231031T115017Z
LAST-MODIFIED:20231031T115017Z
UID:6293-1700816400-1700829000@speedwaymoose500.org
SUMMARY:New Years Eve Ticket Sales Start
DESCRIPTION:
URL:https://speedwaymoose500.org/event/new-years-eve-ticket-sales-start/
END:VEVENT
BEGIN:VEVENT
DTSTART;TZID=UTC:20231125T100000
DTEND;TZID=UTC:20231125T160000
DTSTAMP:20260423T222224
CREATED:20231031T115201Z
LAST-MODIFIED:20231031T115201Z
UID:6295-1700906400-1700928000@speedwaymoose500.org
SUMMARY:Decorate Lodge for Christmas
DESCRIPTION:
URL:https://speedwaymoose500.org/event/decorate-lodge-for-christmas-2/
END:VEVENT
BEGIN:VEVENT
DTSTART;TZID=UTC:20231125T190000
DTEND;TZID=UTC:20231125T230000
DTSTAMP:20260423T222224
CREATED:20231031T114811Z
LAST-MODIFIED:20231031T114811Z
UID:6291-1700938800-1700953200@speedwaymoose500.org
SUMMARY:Band - Bigger is Better
DESCRIPTION:
URL:https://speedwaymoose500.org/event/band-bigger-is-better-24/
END:VEVENT
END:VCALENDAR