BEGIN:VCALENDAR
VERSION:2.0
PRODID:-//Speedway Moose 500 - ECPv6.3.4//NONSGML v1.0//EN
CALSCALE:GREGORIAN
METHOD:PUBLISH
X-ORIGINAL-URL:https://speedwaymoose500.org
X-WR-CALDESC:Events for Speedway Moose 500
REFRESH-INTERVAL;VALUE=DURATION:PT1H
X-Robots-Tag:noindex
X-PUBLISHED-TTL:PT1H
BEGIN:VTIMEZONE
TZID:UTC
BEGIN:STANDARD
TZOFFSETFROM:+0000
TZOFFSETTO:+0000
TZNAME:UTC
DTSTART:20230101T000000
END:STANDARD
TZID:America/Indiana/Indianapolis
BEGIN:DAYLIGHT
TZOFFSETFROM:-0500
TZOFFSETTO:-0400
TZNAME:EDT
DTSTART:20240310T070000
END:DAYLIGHT
BEGIN:STANDARD
TZOFFSETFROM:-0400
TZOFFSETTO:-0500
TZNAME:EST
DTSTART:20241103T060000
END:STANDARD
END:VTIMEZONE
BEGIN:VEVENT
DTSTART;TZID=UTC:20231231T160000
DTEND;TZID=UTC:20240101T010000
DTSTAMP:20260423T153050
CREATED:20220222T202330Z
LAST-MODIFIED:20231031T121620Z
UID:3567-1704038400-1704070800@speedwaymoose500.org
SUMMARY:News Year Eve Party
DESCRIPTION:
URL:https://speedwaymoose500.org/event/bingo-regular-games-2023-12-31/
END:VEVENT
BEGIN:VEVENT
DTSTART;VALUE=DATE:20240101
DTEND;VALUE=DATE:20240102
DTSTAMP:20260423T153050
CREATED:20210503T185832Z
LAST-MODIFIED:20231031T121949Z
UID:2772-1704067200-1704153599@speedwaymoose500.org
SUMMARY:Lodge Closed
DESCRIPTION:
URL:https://speedwaymoose500.org/event/lodge-moose-legion-meeting-2024-01-01/
END:VEVENT
BEGIN:VEVENT
DTSTART;TZID=UTC:20240102T160000
DTEND;TZID=UTC:20240102T230000
DTSTAMP:20260423T153050
CREATED:20231226T014313Z
LAST-MODIFIED:20231226T014313Z
UID:6812-1704211200-1704236400@speedwaymoose500.org
SUMMARY:Social Quarters Open
DESCRIPTION:
URL:https://speedwaymoose500.org/event/social-quarters-open-2/2024-01-02/
END:VEVENT
BEGIN:VEVENT
DTSTART;TZID=UTC:20240103T160000
DTEND;TZID=UTC:20240103T230000
DTSTAMP:20260423T153050
CREATED:20231226T014744Z
LAST-MODIFIED:20231226T014744Z
UID:7021-1704297600-1704322800@speedwaymoose500.org
SUMMARY:Social Quarters Open
DESCRIPTION:
URL:https://speedwaymoose500.org/event/social-quarters-open-4/2024-01-03/
END:VEVENT
BEGIN:VEVENT
DTSTART;TZID=UTC:20240104T160000
DTEND;TZID=UTC:20240104T230000
DTSTAMP:20260423T153050
CREATED:20231226T015618Z
LAST-MODIFIED:20231226T015618Z
UID:7126-1704384000-1704409200@speedwaymoose500.org
SUMMARY:Social Quarters Open
DESCRIPTION:
URL:https://speedwaymoose500.org/event/social-quarters-open-5/2024-01-04/
END:VEVENT
BEGIN:VEVENT
DTSTART;TZID=UTC:20240106T190000
DTEND;TZID=UTC:20240106T230000
DTSTAMP:20260423T153050
CREATED:20231222T013626Z
LAST-MODIFIED:20231222T013626Z
UID:6438-1704567600-1704582000@speedwaymoose500.org
SUMMARY:Band - Southern Bridges
DESCRIPTION:
URL:https://speedwaymoose500.org/event/band-southern-bridges-14/
END:VEVENT
BEGIN:VEVENT
DTSTART;TZID=UTC:20240107T120000
DTEND;TZID=UTC:20240107T180000
DTSTAMP:20260423T153050
CREATED:20231226T013945Z
LAST-MODIFIED:20231226T014116Z
UID:6708-1704628800-1704650400@speedwaymoose500.org
SUMMARY:Social Quarters Open
DESCRIPTION:
URL:https://speedwaymoose500.org/event/social-quarters-open/2024-01-07/
END:VEVENT
BEGIN:VEVENT
DTSTART;TZID=UTC:20240108T160000
DTEND;TZID=UTC:20240108T230000
DTSTAMP:20260423T153050
CREATED:20231226T014601Z
LAST-MODIFIED:20231226T014601Z
UID:6917-1704729600-1704754800@speedwaymoose500.org
SUMMARY:Social Quarters Open
DESCRIPTION:
URL:https://speedwaymoose500.org/event/social-quarters-open-3/2024-01-08/
END:VEVENT
BEGIN:VEVENT
DTSTART;TZID=America/Indiana/Indianapolis:20240112T230000
DTEND;TZID=America/Indiana/Indianapolis:20240112T230000
DTSTAMP:20260423T153050
CREATED:20231226T034451Z
LAST-MODIFIED:20231226T042202Z
UID:7240-1705100400-1705100400@speedwaymoose500.org
SUMMARY:Midnight Bingo - Doors Opens
DESCRIPTION:
URL:https://speedwaymoose500.org/event/midnight-bingo-doors-opens/
END:VEVENT
BEGIN:VEVENT
DTSTART;TZID=America/Indiana/Indianapolis:20240113T000000
DTEND;TZID=America/Indiana/Indianapolis:20240113T000000
DTSTAMP:20260423T153050
CREATED:20231226T034142Z
LAST-MODIFIED:20231226T042250Z
UID:7236-1705104000-1705104000@speedwaymoose500.org
SUMMARY:Midnight Bingo - Window Opens
DESCRIPTION:
URL:https://speedwaymoose500.org/event/midnight-bingo-doors-open/
END:VEVENT
BEGIN:VEVENT
DTSTART;TZID=UTC:20240113T160000
DTEND;TZID=UTC:20240113T210000
DTSTAMP:20260423T153050
CREATED:20231225T015216Z
LAST-MODIFIED:20231225T035535Z
UID:6474-1705161600-1705179600@speedwaymoose500.org
SUMMARY:Open for Dinner
DESCRIPTION:
URL:https://speedwaymoose500.org/event/400-pm-900-pm-open-for-dinner/
END:VEVENT
BEGIN:VEVENT
DTSTART;TZID=America/Indiana/Indianapolis:20240113T190000
DTEND;TZID=America/Indiana/Indianapolis:20240113T230000
DTSTAMP:20260423T153050
CREATED:20231222T013733Z
LAST-MODIFIED:20231226T042024Z
UID:6440-1705172400-1705186800@speedwaymoose500.org
SUMMARY:Band - Party (New Band)
DESCRIPTION:
URL:https://speedwaymoose500.org/event/band-party-new-band/
END:VEVENT
BEGIN:VEVENT
DTSTART;TZID=UTC:20240120T160000
DTEND;TZID=UTC:20240120T210000
DTSTAMP:20260423T153050
CREATED:20231225T035656Z
LAST-MODIFIED:20231225T035656Z
UID:6480-1705766400-1705784400@speedwaymoose500.org
SUMMARY:Open for Dinner
DESCRIPTION:
URL:https://speedwaymoose500.org/event/open-for-dinner-3/
END:VEVENT
BEGIN:VEVENT
DTSTART;TZID=UTC:20240120T190000
DTEND;TZID=UTC:20240120T230000
DTSTAMP:20260423T153050
CREATED:20231222T013823Z
LAST-MODIFIED:20231222T013823Z
UID:6442-1705777200-1705791600@speedwaymoose500.org
SUMMARY:Band - Project 19
DESCRIPTION:
URL:https://speedwaymoose500.org/event/band-project-19-14/
END:VEVENT
BEGIN:VEVENT
DTSTART;TZID=UTC:20240127T160000
DTEND;TZID=UTC:20240127T210000
DTSTAMP:20260423T153050
CREATED:20231225T035803Z
LAST-MODIFIED:20231225T035803Z
UID:6482-1706371200-1706389200@speedwaymoose500.org
SUMMARY:Open for Dinner
DESCRIPTION:
URL:https://speedwaymoose500.org/event/open-for-dinner-4/
END:VEVENT
BEGIN:VEVENT
DTSTART;TZID=UTC:20240127T190000
DTEND;TZID=UTC:20240127T230000
DTSTAMP:20260423T153050
CREATED:20231222T013915Z
LAST-MODIFIED:20231222T013915Z
UID:6444-1706382000-1706396400@speedwaymoose500.org
SUMMARY:Band - Terry Lee Ridley
DESCRIPTION:
URL:https://speedwaymoose500.org/event/band-terry-lee-ridley-6/
END:VEVENT
END:VCALENDAR